{
 "currentVersion": 11.1,
 "serviceDescription": "elevationlayer_imagelayer_altimer_2018",
 "name": "elevationlayer_imagelayer_altimer_2018",
 "description": "",
 "extent": {
  "xmin": 1444057.9285200313,
  "ymin": 9121155.99705782,
  "xmax": 1518150.8027474463,
  "ymax": 9182126.371602736,
  "spatialReference": {
   "wkid": 3950,
   "latestWkid": 3950
  }
 },
 "initialExtent": {
  "xmin": 1444057.9285200313,
  "ymin": 9121155.99705782,
  "xmax": 1518150.8027474463,
  "ymax": 9182126.371602736,
  "spatialReference": {
   "wkid": 3950,
   "latestWkid": 3950
  }
 },
 "fullExtent": {
  "xmin": 1444057.9285200313,
  "ymin": 9121155.99705782,
  "xmax": 1518150.8027474463,
  "ymax": 9182126.371602736,
  "spatialReference": {
   "wkid": 3950,
   "latestWkid": 3950
  }
 },
 "sortableFields": "",
 "bandCount": 1,
 "pixelType": "F32",
 "minValues": [
  -8.810879707336426
 ],
 "maxValues": [
  173.3000030517578
 ],
 "meanValues": [
  79.57876333846801
 ],
 "stdvValues": [
  45.794319908291186
 ],
 "spatialReference": {
  "wkid": 3950,
  "latestWkid": 3950
 },
 "singleFusedMapCache": true,
 "tileInfo": {
  "rows": 256,
  "cols": 256,
  "dpi": 96,
  "format": "LERC",
  "compressionQuality": 0,
  "lercError": 0.01,
  "origin": {
   "x": -34356400,
   "y": 50618200
  },
  "spatialReference": {
   "wkid": 3950,
   "latestWkid": 3950
  },
  "lods": [
   {
    "level": 0,
    "resolution": 135.46693760054188,
    "scale": 512000
   },
   {
    "level": 1,
    "resolution": 67.73346880027094,
    "scale": 256000
   },
   {
    "level": 2,
    "resolution": 33.86673440013547,
    "scale": 128000
   },
   {
    "level": 3,
    "resolution": 16.933367200067735,
    "scale": 64000
   },
   {
    "level": 4,
    "resolution": 8.466683600033868,
    "scale": 32000
   },
   {
    "level": 5,
    "resolution": 4.233341800016934,
    "scale": 16000
   },
   {
    "level": 6,
    "resolution": 2.116670900008467,
    "scale": 8000
   },
   {
    "level": 7,
    "resolution": 1.0583354500042335,
    "scale": 4000
   },
   {
    "level": 8,
    "resolution": 0.5291677250021167,
    "scale": 2000
   },
   {
    "level": 9,
    "resolution": 0.26458386250105836,
    "scale": 1000
   },
   {
    "level": 10,
    "resolution": 0.13229193125052918,
    "scale": 500
   },
   {
    "level": 11,
    "resolution": 0.06614596562526459,
    "scale": 250
   }
  ],
  "storageFormat": "esriMapCacheStorageModeCompact"
 },
 "cacheType": "Elevation",
 "exportTilesAllowed": false,
 "minScale": 512000,
 "maxScale": 250,
 "capabilities": "Image,TilesOnly,Tilemap",
 "minLOD": 0,
 "maxLOD": 11,
 "datasetFormat": "Cache/LERC",
 "compressionType": "LERC",
 "serviceDataType": "esriImageServiceDataTypeElevation",
 "blockWidth": 256,
 "blockHeight": 256,
 "pixelSizeX": 0.06614596562526459,
 "pixelSizeY": 0.06614596562526459,
 "minPixelSize": 0.06614596562526459,
 "maxPixelSize": 135.46693760054188
}
