View In:
ArcGIS JavaScript
ArcGIS Online Map Viewer
ArcGIS Earth
Service Description: elevationlayer_imagelayer_altimer_2018
Name: elevationlayer_imagelayer_altimer_2018
Description:
Single Fused Map Cache: true
Tile Info:
- Height: 256
- Width: 256
- DPI: 96
-
Levels of Detail: 12
- Format: LERC
- Compression Quality: 0.0
- LERC Error: 0.01
- Origin: X: -3.43564E7
Y: 5.06182E7
- Spatial Reference: 3950
(3950)
LatestVCSWkid(0)
Extent:
XMin: 1444057.9285200313
YMin: 9121155.99705782
XMax: 1518150.8027474463
YMax: 9182126.371602736
Spatial Reference: 3950
(3950)
LatestVCSWkid(0)
Initial Extent:
XMin: 1444057.9285200313
YMin: 9121155.99705782
XMax: 1518150.8027474463
YMax: 9182126.371602736
Spatial Reference: 3950
(3950)
LatestVCSWkid(0)
Full Extent:
XMin: 1444057.9285200313
YMin: 9121155.99705782
XMax: 1518150.8027474463
YMax: 9182126.371602736
Spatial Reference: 3950
(3950)
LatestVCSWkid(0)
Pixel Size X: 0.06614596562526459
Pixel Size Y: 0.06614596562526459
Band Count: 1
Pixel Type: F32
RasterFunction Infos: {"rasterFunctionInfos": null}
Mensuration Capabilities:
Inspection Capabilities:
Has Histograms: false
Has Colormap: false
Has Multi Dimensions : false
Rendering Rule:
Min Scale: 512000
Max Scale: 250
Min LOD: 0
Max LOD: 11
Copyright Text: N/A
Service Data Type: esriImageServiceDataTypeElevation
Min Values: -8.810879707336426
Max Values: 173.3000030517578
Mean Values: 79.57876333846801
Standard Deviation Values: 45.794319908291186
Object ID Field: N/A
Fields:
None
Default Mosaic Method: N/A
Allowed Mosaic Methods: N/A
SortField: N/A
SortValue: N/A
Mosaic Operator: N/A
Default Compression Quality: null
Default Resampling Method: N/A
Max Record Count: null
Max Image Height: null
Max Image Width: null
Max Download Image Count: null
Max Mosaic Image Count: null
Allow Raster Function: null
Allow Copy: null
Allow Analysis: null
Allow Compute TiePoints: false
Supports Statistics: false
Supports Advanced Queries: false
Use StandardizedQueries: false
Raster Type Infos:
None
Has Raster Attribute Table: null
Edit Fields Info: N/A
Ownership Based AccessControl For Rasters: N/A
Child Resources:
Info